BEGIN:VCALENDAR
VERSION:2.0
PRODID:-//My Community Diary//iCal Event//EN
CALSCALE:GREGORIAN
METHOD:PUBLISH
BEGIN:VEVENT
UID:cebda77a-07f1-499e-8011-7c3f8da98b30
DTSTAMP:20260424T160626Z
DTSTART:20180515T103000Z
DTEND:20180515T123000Z
SUMMARY:Loaves & Fishes - Gold Coast
DESCRIPTION:Lunch\n
LOCATION:\, Nerang Community Hall\, 34 Price Street\, Nerang\,QLD 4211\, QLD
RRULE:FREQ=WEEKLY;INTERVAL=1;BYDAY=TU
END:VEVENT
END:VCALENDAR
