BEGIN:VCALENDAR
VERSION:2.0
PRODID:-//My Community Diary//iCal Event//EN
CALSCALE:GREGORIAN
METHOD:PUBLISH
BEGIN:VEVENT
UID:a21d4885-884e-4e82-bb8c-6c719b02c9ed
DTSTAMP:20260424T160634Z
DTSTART:20180518T170000Z
DTEND:20180518T190000Z
SUMMARY:Kotahi Aroha Inc
DESCRIPTION:Soup\, Savoury\, Sweet
LOCATION:\, Diggers Rest\, Goodna\,QLD 4300\, QLD
RRULE:FREQ=WEEKLY;INTERVAL=1;BYDAY=FR
END:VEVENT
END:VCALENDAR
