BEGIN:VCALENDAR
VERSION:2.0
PRODID:-//My Community Diary//iCal Event//EN
CALSCALE:GREGORIAN
METHOD:PUBLISH
BEGIN:VEVENT
UID:cf3f5cc5-e9fb-4432-bb28-dd3b2c584a2a
DTSTAMP:20260424T154911Z
DTSTART:20180516T080000Z
DTEND:20180516T100000Z
SUMMARY:Keith's Community Breakfast
DESCRIPTION:BBQ\, cereal\, juice\, tea &amp\; coffee\n
LOCATION:\, Fenwick Park\, Samford Road\, Mitchelton\,QLD 4053\, QLD
RRULE:FREQ=WEEKLY;INTERVAL=1;BYDAY=WE
END:VEVENT
END:VCALENDAR
