BEGIN:VCALENDAR
VERSION:2.0
PRODID:-//My Community Diary//iCal Event//EN
CALSCALE:GREGORIAN
METHOD:PUBLISH
BEGIN:VEVENT
UID:6b904fec-c303-43c6-9f1d-0ad2f5a1dbaa
DTSTAMP:20260424T155947Z
DTSTART:20180516T063000Z
DTEND:20180516T083000Z
SUMMARY:Jimmies Van
DESCRIPTION:BBQ breakfast of sausages\, bacon and eggs\n
LOCATION:\, Kemp Place\, Ivory Street\, Fortitude Valley\,QLD 4006\, QLD
RRULE:FREQ=WEEKLY;INTERVAL=1;BYDAY=WE
END:VEVENT
END:VCALENDAR
