BEGIN:VCALENDAR
VERSION:2.0
PRODID:-//My Community Diary//iCal Event//EN
CALSCALE:GREGORIAN
METHOD:PUBLISH
BEGIN:VEVENT
UID:062b4f8d-716b-446d-96fb-bcae719486cd
DTSTAMP:20260424T160625Z
DTSTART:20180517T090000Z
DTEND:20180517T110000Z
SUMMARY:Ipswich Foodbarn - Community Compassion Ministries
DESCRIPTION:Food Hampers
LOCATION:\, 1 Darling Street East\, Woodend\, Ipswich\,QLD 4305\, QLD
RRULE:FREQ=WEEKLY;INTERVAL=1;BYDAY=TH
END:VEVENT
END:VCALENDAR
