BEGIN:VCALENDAR
VERSION:2.0
PRODID:-//My Community Diary//iCal Event//EN
CALSCALE:GREGORIAN
METHOD:PUBLISH
BEGIN:VEVENT
UID:def997a2-c1fc-47a7-882f-062304f0468b
DTSTAMP:20260424T160000Z
DTSTART:20180515T150000Z
DTEND:20180515T170000Z
SUMMARY:Inala Youth Service: The Hut
DESCRIPTION:Food\, clothing\, sport\, craft & activities - Free During Term Time
LOCATION:\, 1 Wonga Street\, Inala QLD 4077\, QLD\, 4077
RRULE:FREQ=WEEKLY;INTERVAL=1;BYDAY=TU
END:VEVENT
END:VCALENDAR
