BEGIN:VCALENDAR
VERSION:2.0
PRODID:-//My Community Diary//iCal Event//EN
CALSCALE:GREGORIAN
METHOD:PUBLISH
BEGIN:VEVENT
UID:35aac6a3-2dd3-4666-8681-4ad1f1d05e93
DTSTAMP:20260424T160625Z
DTSTART;TZID=E. Australia Standard Time:20231128T191500
DTEND;TZID=E. Australia Standard Time:20231128T194500
SUMMARY:Helping Hands Queensland
DESCRIPTION:We provide hot food (hotdogs or soup)\, sandwiches\, tea\, coffee &amp\; milo\, fresh fruit and vegetables\, grocery packs\, Bibles and other donated items.&nbsp\;\n\nAll welcome.\n\n7.20-7.40pm every Tuesday evening\n
LOCATION:Milford street Ipswich\, near corner of Milford & Brisbane Street\, Milford Street\, Ipswich QLD\, Australia\, QLD\, 4305
RRULE:FREQ=WEEKLY;INTERVAL=1;BYDAY=TU
END:VEVENT
END:VCALENDAR
