BEGIN:VCALENDAR
VERSION:2.0
PRODID:-//My Community Diary//iCal Event//EN
CALSCALE:GREGORIAN
METHOD:PUBLISH
BEGIN:VEVENT
UID:3a52f06b-8537-4a69-87fd-02f11e2498c7
DTSTAMP:20260424T155902Z
DTSTART;TZID=E. Australia Standard Time:20231128T190000
DTEND;TZID=E. Australia Standard Time:20231128T191500
SUMMARY:Helping Hands Queensland
DESCRIPTION:We provide hot food (hotdogs or soup)\, sandwiches\, tea\, coffee &amp\; milo\, fresh fruit and vegetables\, grocery packs\, Bibles and other donated items.&nbsp\;\n\nAll welcome.\n\n7-7.20pm every Tuesday night&nbsp\;\n
LOCATION:Outside Carrington Guest House\, Murphy Street\, Ipswich QLD\, Australia\, QLD\, 4305
RRULE:FREQ=WEEKLY;INTERVAL=1;BYDAY=TU
END:VEVENT
END:VCALENDAR
