BEGIN:VCALENDAR
VERSION:2.0
PRODID:-//My Community Diary//iCal Event//EN
CALSCALE:GREGORIAN
METHOD:PUBLISH
BEGIN:VEVENT
UID:0b14cc60-792d-4fe6-a1f3-566756ba86ff
DTSTAMP:20260424T160517Z
DTSTART:20231128T184500Z
DTEND:20231128T190000Z
SUMMARY:Helping Hands Queensland
DESCRIPTION:We provide hot food (hotdogs or soup)\, sandwiches\, tea\, coffee &amp\; milo\, fresh fruit and vegetables\, grocery packs\, Bibles and other donated items.&nbsp\;\n\nAll welcome.\n\n6.40-7pm every Tuesday evening.\n
LOCATION:Outside Denmark Guest House\, 40 Waghorn Street\, Ipswich\,QLD 4305\, QLD
RRULE:FREQ=WEEKLY;INTERVAL=1;BYDAY=TU
END:VEVENT
END:VCALENDAR
