BEGIN:VCALENDAR
VERSION:2.0
PRODID:-//My Community Diary//iCal Event//EN
CALSCALE:GREGORIAN
METHOD:PUBLISH
BEGIN:VEVENT
UID:88f92d61-dfb5-4b99-ac36-16564fcd38fb
DTSTAMP:20260424T154956Z
DTSTART;TZID=E. Australia Standard Time:20180520T104500
DTEND;TZID=E. Australia Standard Time:20180520T113000
SUMMARY:Havafeed Community Relief
DESCRIPTION:Cafe Lunch\n
LOCATION:\, Mermaid Beach Community Centre\, 2439 Gold Coast Hwy\, Mermaid Beach QLD 4218\, QLD\, 4218
RRULE:FREQ=WEEKLY;INTERVAL=1;BYDAY=SU
END:VEVENT
END:VCALENDAR
