BEGIN:VCALENDAR
VERSION:2.0
PRODID:-//My Community Diary//iCal Event//EN
CALSCALE:GREGORIAN
METHOD:PUBLISH
BEGIN:VEVENT
UID:26fdd673-f913-4d11-9ffd-6446783e08ac
DTSTAMP:20260424T155835Z
DTSTART;TZID=E. Australia Standard Time:20180518T090000
DTEND;TZID=E. Australia Standard Time:20180518T113000
SUMMARY:Havafeed Community Relief
DESCRIPTION:Brunch\, food parcels &amp\; vegetables\n
LOCATION:\, Mermaid Beach Community Centre\, 2439 Gold Coast Hwy\, Mermaid Beach QLD 4218\, QLD\, 4218
RRULE:FREQ=WEEKLY;INTERVAL=1;BYDAY=FR
END:VEVENT
END:VCALENDAR
