BEGIN:VCALENDAR
VERSION:2.0
PRODID:-//My Community Diary//iCal Event//EN
CALSCALE:GREGORIAN
METHOD:PUBLISH
BEGIN:VEVENT
UID:13768a09-e4fa-460e-ab2b-6e85c56642ec
DTSTAMP:20260424T155900Z
DTSTART;TZID=E. Australia Standard Time:20180517T060000
DTEND;TZID=E. Australia Standard Time:20180517T080000
SUMMARY:Havafeed Community Relief
DESCRIPTION:Breakfast\, food parcels &amp\; hot showers\n
LOCATION:\, Mermaid Beach Community Centre\, 2439 Gold Coast Hwy\, Mermaid Beach QLD 4218\, QLD\, 4218
RRULE:FREQ=WEEKLY;INTERVAL=1;BYDAY=TH
END:VEVENT
END:VCALENDAR
