BEGIN:VCALENDAR
VERSION:2.0
PRODID:-//My Community Diary//iCal Event//EN
CALSCALE:GREGORIAN
METHOD:PUBLISH
BEGIN:VEVENT
UID:12155a55-32df-4adf-8c1b-26755b5db39d
DTSTAMP:20260424T160629Z
DTSTART:20180518T170000Z
DTEND:20180518T190000Z
SUMMARY:Footprints in the Park
DESCRIPTION:BBQ
LOCATION:\, Birrell Street Park\, Birrell Street\, Leichhardt\,QLD 4305\, QLD
RRULE:FREQ=WEEKLY;INTERVAL=1;BYDAY=FR
END:VEVENT
END:VCALENDAR
