BEGIN:VCALENDAR
VERSION:2.0
PRODID:-//My Community Diary//iCal Event//EN
CALSCALE:GREGORIAN
METHOD:PUBLISH
BEGIN:VEVENT
UID:a250b3b8-a565-44f9-9960-abf33aa5cc45
DTSTAMP:20260424T160645Z
DTSTART:20180516T173000Z
DTEND:20180516T193000Z
SUMMARY:Footprints in the Park
DESCRIPTION:BBQ
LOCATION:\, Queens Park\, Ipswich\, QLD 4305\, QLD
RRULE:FREQ=WEEKLY;INTERVAL=1;BYDAY=WE
END:VEVENT
END:VCALENDAR
