BEGIN:VCALENDAR
VERSION:2.0
PRODID:-//My Community Diary//iCal Event//EN
CALSCALE:GREGORIAN
METHOD:PUBLISH
BEGIN:VEVENT
UID:debb13e0-2b27-4108-bb16-ff7c6a3eb4a2
DTSTAMP:20260424T160521Z
DTSTART:20180518T070000Z
DTEND:20180518T090000Z
SUMMARY:Eddies Morning Van
DESCRIPTION:BBQ\n
LOCATION:\, Wickham Park\, Wickham Terrace\, Spring Hill\,QLD 4000\, QLD
RRULE:FREQ=WEEKLY;INTERVAL=1;BYDAY=FR
END:VEVENT
END:VCALENDAR
