BEGIN:VCALENDAR
VERSION:2.0
PRODID:-//My Community Diary//iCal Event//EN
CALSCALE:GREGORIAN
METHOD:PUBLISH
BEGIN:VEVENT
UID:43b3041c-1508-42a2-88d1-ea3b98060909
DTSTAMP:20260424T160519Z
DTSTART:20180517T070000Z
DTEND:20180517T090000Z
SUMMARY:Eddies Morning Van
DESCRIPTION:BBQ\n
LOCATION:\, Wickham Park\, Wickham Terrace\, Spring Hill\,QLD 4000\, QLD
RRULE:FREQ=WEEKLY;INTERVAL=1;BYDAY=TH
END:VEVENT
END:VCALENDAR
