BEGIN:VCALENDAR
VERSION:2.0
PRODID:-//My Community Diary//iCal Event//EN
CALSCALE:GREGORIAN
METHOD:PUBLISH
BEGIN:VEVENT
UID:bf90d811-efb3-49e2-8a16-52c5665ff54c
DTSTAMP:20260424T160020Z
DTSTART:20180515T070000Z
DTEND:20180515T090000Z
SUMMARY:Eddies Morning Van
DESCRIPTION:BBQ\n
LOCATION:\, Wickham Park\, Wickham Terrace\, Spring Hill\,QLD 4000\, QLD
RRULE:FREQ=WEEKLY;INTERVAL=1;BYDAY=TU
END:VEVENT
END:VCALENDAR
