BEGIN:VCALENDAR
VERSION:2.0
PRODID:-//My Community Diary//iCal Event//EN
CALSCALE:GREGORIAN
METHOD:PUBLISH
BEGIN:VEVENT
UID:73a49534-84d5-4bb9-9f23-f199080e5d1a
DTSTAMP:20260424T154950Z
DTSTART:20180517T070000Z
DTEND:20180517T071500Z
SUMMARY:Ecumenical Coffee Brigade
DESCRIPTION:Sandwiches\, fruit &amp\; hot drinks\n
LOCATION:\, Annie Street\, Kangaroo Point\,QLD 4169\, QLD
RRULE:FREQ=DAILY;INTERVAL=1
END:VEVENT
END:VCALENDAR
