BEGIN:VCALENDAR
VERSION:2.0
PRODID:-//My Community Diary//iCal Event//EN
CALSCALE:GREGORIAN
METHOD:PUBLISH
BEGIN:VEVENT
UID:328400b8-1e93-4330-a67f-024a569dc958
DTSTAMP:20260424T155948Z
DTSTART;TZID=E. Australia Standard Time:20180514T200000
DTEND;TZID=E. Australia Standard Time:20180514T203000
SUMMARY:Drug Arm SOS (Street Outreach Service)
DESCRIPTION:Sandwiches (Subject to availability)\, Snacks\, Hot &amp\; Cold Drinks&nbsp\;with Referral Information\n
LOCATION:\, Warry St\, Fortitude Valley QLD\, Australia\, QLD\, 4006
RRULE:FREQ=WEEKLY;INTERVAL=1;BYDAY=MO,WE,FR,SA;UNTIL=20231224T000000Z
END:VEVENT
END:VCALENDAR
