BEGIN:VCALENDAR
VERSION:2.0
PRODID:-//My Community Diary//iCal Event//EN
CALSCALE:GREGORIAN
METHOD:PUBLISH
BEGIN:VEVENT
UID:0ce2843c-4d39-4ade-9ea3-7391b84ac336
DTSTAMP:20260424T154957Z
DTSTART:20180517T083000Z
DTEND:20180517T103000Z
SUMMARY:Cafe One
DESCRIPTION:Breakfast\, lunch & quality coffee (eat in or take home)
LOCATION:\, 967 Brunswick Street\, New Farm\,QLD 4005\, QLD
RRULE:FREQ=WEEKLY;INTERVAL=1;BYDAY=TH
END:VEVENT
END:VCALENDAR
