BEGIN:VCALENDAR
VERSION:2.0
PRODID:-//My Community Diary//iCal Event//EN
CALSCALE:GREGORIAN
METHOD:PUBLISH
BEGIN:VEVENT
UID:cf0cfe8e-4a22-42e6-8323-a9a62a106738
DTSTAMP:20260424T155034Z
DTSTART:20180515T083000Z
DTEND:20180515T103000Z
SUMMARY:Cafe One
DESCRIPTION:Breakfast\, lunch & quality coffee (eat in or take home)
LOCATION:\, 967 Brunswick Street\, New Farm\,QLD 4005\, QLD
RRULE:FREQ=WEEKLY;INTERVAL=1;BYDAY=TU
END:VEVENT
END:VCALENDAR
