BEGIN:VCALENDAR
VERSION:2.0
PRODID:-//My Community Diary//iCal Event//EN
CALSCALE:GREGORIAN
METHOD:PUBLISH
BEGIN:VEVENT
UID:d5b59791-ba47-48c5-8263-b93a072912c3
DTSTAMP:20260424T160623Z
DTSTART:20180518T113000Z
DTEND:20180518T133000Z
SUMMARY:Anglican Crisis Care Inc & St John's Drop-in Centre
DESCRIPTION:Meal\n
LOCATION:\, 36 Hamilton Avenue\, Surfers Paradise\,QLD 4217\, QLD
RRULE:FREQ=WEEKLY;INTERVAL=1;BYDAY=FR
END:VEVENT
END:VCALENDAR
