BEGIN:VCALENDAR
VERSION:2.0
PRODID:-//My Community Diary//iCal Event//EN
CALSCALE:GREGORIAN
METHOD:PUBLISH
BEGIN:VEVENT
UID:71defcb4-3229-4e5d-b423-670d61ddcc9c
DTSTAMP:20260424T161012Z
DTSTART:20180517T113000Z
DTEND:20180517T133000Z
SUMMARY:Anglican Crisis Care Inc & St John's Drop-in Centre
DESCRIPTION:Meal\n
LOCATION:\, 36 Hamilton Avenue\, Surfers Paradise\,QLD 4217\, QLD
RRULE:FREQ=WEEKLY;INTERVAL=1;BYDAY=TH
END:VEVENT
END:VCALENDAR
