BEGIN:VCALENDAR
VERSION:2.0
PRODID:-//My Community Diary//iCal Event//EN
CALSCALE:GREGORIAN
METHOD:PUBLISH
BEGIN:VEVENT
UID:c7e9504a-43a7-4d97-99f4-8d62e9dec51d
DTSTAMP:20260424T160623Z
DTSTART:20180514T113000Z
DTEND:20180514T133000Z
SUMMARY:Anglican Crisis Care Inc & St John's Drop-in Centre
DESCRIPTION:Meal\n
LOCATION:\, 36 Hamilton Avenue\, Surfers Paradise\,QLD 4217\, QLD
RRULE:FREQ=WEEKLY;INTERVAL=1;BYDAY=MO
END:VEVENT
END:VCALENDAR
