BEGIN:VCALENDAR
VERSION:2.0
PRODID:-//My Community Diary//iCal Event//EN
CALSCALE:GREGORIAN
METHOD:PUBLISH
BEGIN:VEVENT
UID:f680b26f-a653-49f1-ba66-fcc2b519d68d
DTSTAMP:20260424T155901Z
DTSTART:20180516T180000Z
DTEND:20180516T200000Z
SUMMARY:Agape Outreach Inc
DESCRIPTION:2 course meal\n
LOCATION:\, Coolangatta beach front\, Coolangatta\,QLD 4225\, QLD
RRULE:FREQ=WEEKLY;INTERVAL=1;BYDAY=WE
END:VEVENT
END:VCALENDAR
