BEGIN:VCALENDAR
VERSION:2.0
PRODID:-//My Community Diary//iCal Event//EN
CALSCALE:GREGORIAN
METHOD:PUBLISH
BEGIN:VEVENT
UID:d443ff92-d17b-42cf-9af9-cfc0f2ff7186
DTSTAMP:20260424T155900Z
DTSTART:20180515T180000Z
DTEND:20180515T200000Z
SUMMARY:Agape Outreach Inc
DESCRIPTION:2 course meal\n
LOCATION:\, Coolangatta beach front\, Coolangatta\,QLD 4225\, QLD
RRULE:FREQ=WEEKLY;INTERVAL=1;BYDAY=TU
END:VEVENT
END:VCALENDAR
