BEGIN:VCALENDAR
VERSION:2.0
PRODID:-//My Community Diary//iCal Event//EN
CALSCALE:GREGORIAN
METHOD:PUBLISH
BEGIN:VEVENT
UID:2b05f255-3e05-422e-996b-aedd2dc07032
DTSTAMP:20260424T160000Z
DTSTART:20180516T130000Z
DTEND:20180516T150000Z
SUMMARY:Agape Outreach
DESCRIPTION:Supper including drinks\n
LOCATION:\, Coolangatta beach front\, Coolangatta\,QLD 4225\, QLD
RRULE:FREQ=WEEKLY;INTERVAL=1;BYDAY=WE
END:VEVENT
END:VCALENDAR
