BEGIN:VCALENDAR
VERSION:2.0
PRODID:-//My Community Diary//iCal Event//EN
CALSCALE:GREGORIAN
METHOD:PUBLISH
BEGIN:VEVENT
UID:e97961f6-6ee3-4e35-a9e1-23ad8fb8539e
DTSTAMP:20260424T160001Z
DTSTART:20180515T180000Z
DTEND:20180515T200000Z
SUMMARY:Agape Outreach
DESCRIPTION:Tea\, Coffee\, Hot Chocolate and supper provided\n
LOCATION:\, Coolangatta beach front\, Coolangatta\,QLD 4225\, QLD
RRULE:FREQ=WEEKLY;INTERVAL=1;BYDAY=TU
END:VEVENT
END:VCALENDAR
