BEGIN:VCALENDAR
VERSION:2.0
PRODID:-//My Community Diary//iCal Event//EN
CALSCALE:GREGORIAN
METHOD:PUBLISH
BEGIN:VEVENT
UID:998cca63-53b5-4547-aa25-96790088466a
DTSTAMP:20260424T155958Z
DTSTART:20180520T113000Z
DTEND:20180520T133000Z
SUMMARY:Access Street Van
DESCRIPTION:Sunday Lunch at Mansfield Centre\n
LOCATION:\, Mansfield Centre\, 6/10 Aminya Street\, Mansfield\,QLD 4122\, QLD
RRULE:FREQ=WEEKLY;INTERVAL=1;BYDAY=SU
END:VEVENT
END:VCALENDAR
