BEGIN:VCALENDAR
VERSION:2.0
PRODID:-//My Community Diary//iCal Event//EN
CALSCALE:GREGORIAN
METHOD:PUBLISH
BEGIN:VEVENT
UID:999f13d5-266b-4f93-935f-31f47ea6ae95
DTSTAMP:20260424T155901Z
DTSTART:20180517T193000Z
DTEND:20180517T213000Z
SUMMARY:Access Street Van
DESCRIPTION:Hot Pies &amp\; Hot Coffee\n
LOCATION:\, Herston Lodge\, 129 Butterfield Street\, Herston\,QLD 4006\, QLD
RRULE:FREQ=WEEKLY;INTERVAL=1;BYDAY=FR
END:VEVENT
END:VCALENDAR
