BEGIN:VCALENDAR
VERSION:2.0
PRODID:-//My Community Diary//iCal Event//EN
CALSCALE:GREGORIAN
METHOD:PUBLISH
BEGIN:VEVENT
UID:0120eceb-5033-4b07-9abc-0a35734bfa66
DTSTAMP:20260424T155902Z
DTSTART:20180518T191500Z
DTEND:20180518T211500Z
SUMMARY:Access Street Van
DESCRIPTION:Hot Pies &amp\; Hot Coffee\n
LOCATION:\, Herston Lodge\, 129 Butterfield Street\, Herston\,QLD 4006\, QLD
RRULE:FREQ=WEEKLY;INTERVAL=1;BYDAY=FR
END:VEVENT
END:VCALENDAR
