BEGIN:VCALENDAR
VERSION:2.0
PRODID:-//My Community Diary//iCal Event//EN
CALSCALE:GREGORIAN
METHOD:PUBLISH
BEGIN:VEVENT
UID:a70f7047-1f21-4d05-9f37-dd1b40f0da4c
DTSTAMP:20260424T155836Z
DTSTART:20180518T201500Z
DTEND:20180518T221500Z
SUMMARY:Access Street Van
DESCRIPTION:Hot Pies &amp\; Hot Coffee\n
LOCATION:\, Jeays Street Park\, Jeays Street\, Bowen Hills\,QLD 4006\, QLD
RRULE:FREQ=WEEKLY;INTERVAL=1;BYDAY=TH
END:VEVENT
END:VCALENDAR
