BEGIN:VCALENDAR
VERSION:2.0
PRODID:-//My Community Diary//iCal Event//EN
CALSCALE:GREGORIAN
METHOD:PUBLISH
BEGIN:VEVENT
UID:b143ff2f-f0ae-4cfc-8a98-46fa5c3154b1
DTSTAMP:20260424T160518Z
DTSTART:20180517T194500Z
DTEND:20180517T214500Z
SUMMARY:Access Street Van
DESCRIPTION:Hot Pies &amp\; Hot Coffee\n
LOCATION:\, Corner Boundary Street & Gregory Terrace\, Spring Hill\,QLD 4000\, QLD
RRULE:FREQ=WEEKLY;INTERVAL=1;BYDAY=TH
END:VEVENT
END:VCALENDAR
