BEGIN:VCALENDAR
VERSION:2.0
PRODID:-//My Community Diary//iCal Event//EN
CALSCALE:GREGORIAN
METHOD:PUBLISH
BEGIN:VEVENT
UID:9d78914d-712c-4425-ae44-d0e7e0a6aba4
DTSTAMP:20260424T155835Z
DTSTART:20180516T103000Z
DTEND:20180516T123000Z
SUMMARY:Access Street Van
DESCRIPTION:Hot Pies &amp\; Hot Coffee\n
LOCATION:\, Corner Boundary Street & Gregory Terrace\, Spring Hill\,QLD 4000\, QLD
RRULE:FREQ=WEEKLY;INTERVAL=1;BYDAY=WE
END:VEVENT
END:VCALENDAR
