BEGIN:VCALENDAR
VERSION:2.0
PRODID:-//My Community Diary//iCal Event//EN
CALSCALE:GREGORIAN
METHOD:PUBLISH
BEGIN:VEVENT
UID:54399267-8a5f-45f6-a926-abf798db89ae
DTSTAMP:20260424T155959Z
DTSTART:20180516T094500Z
DTEND:20180516T114500Z
SUMMARY:Access Street Van
DESCRIPTION:Hot Pies &amp\; Hot Coffee\n
LOCATION:\, Pindari Men's Hostel\, 28 Quarry Street\, Spring Hill\,QLD 4000\, QLD
RRULE:FREQ=WEEKLY;INTERVAL=1;BYDAY=WE
END:VEVENT
END:VCALENDAR
