BEGIN:VCALENDAR
VERSION:2.0
PRODID:-//My Community Diary//iCal Event//EN
CALSCALE:GREGORIAN
METHOD:PUBLISH
BEGIN:VEVENT
UID:d46919d4-835b-4e6c-9ae2-6b04c8f082a2
DTSTAMP:20260424T160002Z
DTSTART:20180520T133000Z
DTEND:20180520T153000Z
SUMMARY:A Touch of Compassion Inc.
DESCRIPTION:Light Refreshments
LOCATION:\, Inala PCYC\, 37 Swallow Street\, Inala\,QLD 4077\, QLD
RRULE:FREQ=WEEKLY;INTERVAL=1;BYDAY=SU
END:VEVENT
END:VCALENDAR
