BEGIN:VCALENDAR
VERSION:2.0
PRODID:-//My Community Diary//iCal Event//EN
CALSCALE:GREGORIAN
METHOD:PUBLISH
BEGIN:VEVENT
UID:2904cf1b-ab81-4978-a915-b39c5ba2fd76
DTSTAMP:20260424T155900Z
DTSTART:20180520T163000Z
DTEND:20180520T183000Z
SUMMARY:A Touch of Compassion Inc.
DESCRIPTION:Dinner
LOCATION:\, Inala PCYC\, 37 Swallow Street\, Inala\,QLD 4077\, QLD
RRULE:FREQ=WEEKLY;INTERVAL=1;BYDAY=SU
END:VEVENT
END:VCALENDAR
