BEGIN:VCALENDAR
VERSION:2.0
PRODID:-//My Community Diary//iCal Event//EN
CALSCALE:GREGORIAN
METHOD:PUBLISH
BEGIN:VEVENT
UID:30c6076d-67c7-442c-b6b2-c0c76801adf5
DTSTAMP:20260424T155836Z
DTSTART:20180515T170000Z
DTEND:20180515T190000Z
SUMMARY:A Touch of Compassion Inc.
DESCRIPTION:Dinner
LOCATION:\, Crestmead PCYC: Crestmead Community Park\, Gimlet Street\, Crestmead\,QLD 4132\, QLD
RRULE:FREQ=WEEKLY;INTERVAL=1;BYDAY=TU
END:VEVENT
END:VCALENDAR
