BEGIN:VCALENDAR
VERSION:2.0
PRODID:-//My Community Diary//iCal Event//EN
CALSCALE:GREGORIAN
METHOD:PUBLISH
BEGIN:VEVENT
UID:f8cfc8ad-6239-4310-be73-30e6709c77eb
DTSTAMP:20260424T160020Z
DTSTART;TZID=E. Australia Standard Time:20180514T181500
DTEND;TZID=E. Australia Standard Time:20180514T191500
SUMMARY:12 Baskets
DESCRIPTION:Hot family friendly meal for all those doing it tough or sleeping rough.&nbsp\; We have second hand clothing\, blankets and some food hamper goods available on the night.&nbsp\;\n\nWe are wheelchair friendly and toilet facilities are available. If you'd like to bring a chair or picnic blanket please feel free to do so.\n\nBring along a take container and a reusable bag for takeaway food or clothing etc.\n
LOCATION:\, Abraham Park\, Abraham Road\, Upper Coomera QLD 4209\, Australia\, QLD\, 4209
RRULE:FREQ=WEEKLY;INTERVAL=1;BYDAY=MO
END:VEVENT
END:VCALENDAR
