BEGIN:VCALENDAR
VERSION:2.0
PRODID:-//My Community Diary//iCal Event//EN
CALSCALE:GREGORIAN
METHOD:PUBLISH
BEGIN:VEVENT
UID:cc136761-4f11-40d0-9eac-7cf50c400b44
DTSTAMP:20260424T125715Z
DTSTART;TZID=AUS Eastern Standard Time:20240427T110000
DTEND;TZID=AUS Eastern Standard Time:20240427T123000
SUMMARY:Coffee & Claytime at MOA
DESCRIPTION:At Grounded By Designs\, we're all about nurturing a creative practice and dedicating time to connect over a cuppa. Located within the newly renovated warehouse&nbsp\;in Carrington\,&nbsp\;MOA &amp\; co\, prepare to be spoiled while creating your very own functional piece of&nbsp\;art.\n\nThe intention\n\nJoin Myf for a morning dedicated to the simple joys—sip on a cup of your favourite coffee or tea from MOA Coffee Co\, and dive into the practice of&nbsp\;hand building with&nbsp\;clay. This time is all about setting aside the daily rush and allowing yourself to experiment.\n\nWhat to expect\n\nDuring your coffee &amp\; claytime\, you'll have a good 2 hours to dive into the world of clay. We'll provide all the tools you need\, and a generous mound of clay to bring your ideas to life. As you embark on your clay adventure\, you can indulge in your choice of coffee or tea\, and we'll even have some delicious&nbsp\;snacks on hand for you to enjoy.\n\nOnce finished\n\nIf you know you will&nbsp\;need\, use\, and love&nbsp\;the pieces you've created set aside up to 3 pieces to be glazed and fired. Please allow 4 - 6 weeks to pick up and cherish your pieces.\n\nOn the other hand\, if you feel that your pieces aren't quite right\, fear not. In this case\, we'd like to gift you a credit that you can spend in-store at Grounded By Designs or put toward your next workshop with us.\n\nOur aim is to make your time with us meaningful\, enjoyable\, and rewarding\, regardless of the final form your clay creations take.\n
LOCATION:Grounded By Designs\, 16 Gipps Street\, Carrington NSW 2294\, NSW\, 2294
RRULE:FREQ=DAILY;INTERVAL=1
END:VEVENT
END:VCALENDAR
