BEGIN:VCALENDAR
VERSION:2.0
PRODID:-//My Community Diary//iCal Event//EN
CALSCALE:GREGORIAN
METHOD:PUBLISH
BEGIN:VEVENT
UID:d27a7d1d-a3b0-432b-8a70-4ff05480b608
DTSTAMP:20260424T100538Z
DTSTART;TZID=AUS Eastern Standard Time:20240416T073000
DTEND;TZID=AUS Eastern Standard Time:20240416T133000
SUMMARY:Blue Door Coffee
DESCRIPTION:Blue Door currently opens on weekdays (excluding Public Holidays) from 7:30am to 1:30pm for coffee etc. and support\, with a hot meal served each day at 12pm.\n
LOCATION:Blue Door Drop-in Centre\, Quick St\, Campbell ACT 2612\, ACT\, 2612
RRULE:FREQ=WEEKLY;INTERVAL=1;BYDAY=MO,TU,WE,TH,FR
END:VEVENT
END:VCALENDAR
