BEGIN:VCALENDAR
VERSION:2.0
PRODID:-//My Community Diary//iCal Event//EN
CALSCALE:GREGORIAN
METHOD:PUBLISH
BEGIN:VEVENT
UID:9e4e8c56-fd02-43c2-b3b6-b3ec30f0bcd2
DTSTAMP:20260424T154959Z
DTSTART;TZID=E. Australia Standard Time:20180624T173000
DTEND;TZID=E. Australia Standard Time:20180624T193000
SUMMARY:Sunday Church Service
DESCRIPTION:Sunday Church Service\n\nSunday Mornings at 9:30am:&nbsp\;\nThis service goes for little over an hour and is followed by a light morning tea with fellowship. There is a mother’s room with crèche where children are supervised in a fun environment\, and a Sunday school for kids starting from 5 years of age. On the first Sunday of every month we celebrate the Lord’s Supper together.\n\nSunday Nights at 5:30pm:&nbsp\;\nThis service also lasts for little over an hour and is followed by dinner and fellowship. There is a mother’s room with crèche where children are supervised in a fun environment\, and a Sunday school for primary school children.\n\nBoth services are held at\, Hope Church - 9/130 Kingston Rd\, Underwood\n
LOCATION:Hope Reformed Baptist Church - Underwood\, 130 Kingston Road\, Underwood QLD 4119\, QLD\, 4119
RRULE:FREQ=WEEKLY;INTERVAL=1;BYDAY=SU
END:VEVENT
END:VCALENDAR
