BEGIN:VCALENDAR
VERSION:2.0
PRODID:-//My Community Diary//iCal Event//EN
CALSCALE:GREGORIAN
METHOD:PUBLISH
BEGIN:VEVENT
UID:3a4f7f9d-62df-4148-b175-5b3b98652b44
DTSTAMP:20260422T021805Z
DTSTART;TZID=AUS Eastern Standard Time:20240414T080000
DTEND;TZID=AUS Eastern Standard Time:20240414T130000
SUMMARY:Tallwoods Village Market
DESCRIPTION:MONTHLY MARKET\n\n2nd Sunday of each month\n\nSomething for everyone\, offering&nbsp\;65+ variety stalls and fresh produce!\n\nEntertainment for the kids with jumping castle\, bungee jumping\, face painting and so much more??\n\nEnjoy a meal &amp\;a coffee at the Bunker Bar??\n\n&nbsp\;\n\n&nbsp\;\n
LOCATION:Tallwoods Village\, 61 The Boulevard\, Tallwoods Village NSW 2430\, Australia\, NSW\, 2430
RRULE:FREQ=MONTHLY;INTERVAL=1;BYDAY=3MO
END:VEVENT
END:VCALENDAR
