BEGIN:VCALENDAR
VERSION:2.0
PRODID:-//My Community Diary//iCal Event//EN
CALSCALE:GREGORIAN
METHOD:PUBLISH
BEGIN:VEVENT
UID:14d67797-8615-4857-8acb-305ba3378584
DTSTAMP:20260424T173136Z
DTSTART:20220115T000000Z
DTEND:20220115T235959Z
SUMMARY:Cardwell Pioneers Tour
DESCRIPTION:The Cardwell Pioneer Tours are currently operating every Saturday morning from 10 am at the Visitor Information and Heritage Centre located in Cardwell. \n\nThe tour incorporates all the buildings in the historic precinct and takes visitors on a fascinating journey of the area’s colourful history as they move through each building.  \n\nThe tour begins at the old Bush Telegraph building\, the Telegraph and Post Office and explained how Cardwell was founded in 1864 as the first port in North Queensland. Over in the Courthouse\, visitors can gain an understanding of the old judicial system. Several interesting items are on display including the original straight-jackets used in Tully to restrain the more energetic offenders. The old lock-up building was still in use during the1980s at the Cardwell Police Station. The final building is the old Shire Hall which the community used for a multitude of purposes included balls and other formal social events.
LOCATION:\, 51 - 53 Victoria Street\, Cardwell\, QLD 4849\, QLD\, 4849
RRULE:FREQ=WEEKLY;INTERVAL=1;BYDAY=SA;UNTIL=20240128T000000Z
END:VEVENT
END:VCALENDAR
