BEGIN:VCALENDAR
VERSION:2.0
PRODID:-//My Community Diary//iCal Event//EN
CALSCALE:GREGORIAN
METHOD:PUBLISH
BEGIN:VEVENT
UID:8a8c7e0d-aea1-402b-8f6a-1535dab1d1f5
DTSTAMP:20260422T054218Z
DTSTART;VALUE=DATE:20261205
DTEND;VALUE=DATE:20261206
SUMMARY:Jervis Bay Maritime Museum Markets
DESCRIPTION:First Saturday of every month! \n\nThe Museum's monthly markets take place on the first Saturday of the month and profile a variety of local arts and crafts\, home wares and produce. Relax by the pond with live music and refreshments.\n\nCheck out the Museum shop and Mangrove Boardwalk while you are there.
LOCATION:\, Dent Street\, Huskisson\, NSW 2540\, NSW\, 2540
RRULE:FREQ=DAILY;INTERVAL=1;UNTIL=20261207T000000Z
END:VEVENT
END:VCALENDAR
