BEGIN:VCALENDAR
VERSION:2.0
PRODID:-//My Community Diary//iCal Event//EN
CALSCALE:GREGORIAN
METHOD:PUBLISH
BEGIN:VEVENT
UID:faf06741-aa71-43fe-881d-e55d1c4f86f8
DTSTAMP:20260424T171953Z
DTSTART;TZID=E. Australia Standard Time:20180611T100000
DTEND;TZID=E. Australia Standard Time:20180611T120000
SUMMARY:Pathways Program
DESCRIPTION:What is Pathways?\n\nPathways is a six week program designed for people who may be unable to commit to long term rehab\, but have a desire to start a journey on the path to recovery. Pathways is essentially a ‘day-hab’ or rehab as an out-client. The Pathways Program can keep you busy\, socially active\, connected\, motivated and accountable.\n
LOCATION:Pathways-Gold Coast Recovery Services (The Salvation Army)\, 173 Wardoo Street\, Southport QLD 4215\, QLD\, 4215
RRULE:FREQ=WEEKLY;INTERVAL=1;BYDAY=MO,WE,TH
END:VEVENT
END:VCALENDAR
