BEGIN:VCALENDAR
VERSION:2.0
PRODID:-//My Community Diary//iCal Event//EN
CALSCALE:GREGORIAN
METHOD:PUBLISH
BEGIN:VEVENT
UID:bb693642-f6fd-47dd-82f3-666450c41f75
DTSTAMP:20260424T160520Z
DTSTART;TZID=E. Australia Standard Time:20180611T183000
DTEND;TZID=E. Australia Standard Time:20180611T200000
SUMMARY:Yoga
DESCRIPTION:Yoga Class\n\nRelax and Renew&nbsp\;\n\nStretch\, Breathe\, Meditate and Relax\n\nImprove health and immunity\n\nReduce stress and anxiety\n\nExperienced Senior Yoga Teacher/ Health practitioner\n\nMonday 6.30 - 8pm GC Cycling Centre Clubrooms\, Nerang.\n\nCarpeted\, air conditioned room\, warm in winter.\n\nFor more details contact Alison&nbsp\;&nbsp\;\n
LOCATION:Gold Coast Cycle Complex\, 1 Hope St\, Nerang QLD 4211\, QLD\, 4211
RRULE:FREQ=WEEKLY;INTERVAL=1;BYDAY=MO
END:VEVENT
END:VCALENDAR
