BEGIN:VCALENDAR
VERSION:2.0
PRODID:-//My Community Diary//iCal Event//EN
CALSCALE:GREGORIAN
METHOD:PUBLISH
BEGIN:VEVENT
UID:ebbdc9d4-5f97-4004-9ff7-829e79569245
DTSTAMP:20260424T160516Z
DTSTART;TZID=E. Australia Standard Time:20230123T080000
DTEND;TZID=E. Australia Standard Time:20230123T140000
SUMMARY:Munchys
DESCRIPTION:"Munchy s"&nbsp\;&nbsp\;&nbsp\;Most Mondays and Tuesdays\, Munchies is open from 7.45am-1.45pm for Breakfast and Lunch.&nbsp\; Basically&nbsp\;an overgrown Sausage Sizzle\, with Bacon and Egg Burgers\, Our Sizzler\, and Big Boy\, Aussie Burger toasted Sandwiches\,&nbsp\;Barista Coffee\, and sweet options.&nbsp\; The hall is also open for inspection all day and we have chairs and tables for those who would like to spend some time or have a chat.&nbsp\; We also welcome group bookings\, Breakfast\, Lunch or Brunch&nbsp\;and are happy to extend our normal menu for these groups. Workshops\, Lesson and Class groups are also welcome to use the hall and have lunch with us(bookings required).&nbsp\;&nbsp\;&nbsp\; A great day out in the country\, or just a place to grab a bite if you are munchy\n
LOCATION:Woongoolba Hall\, 1226 Stapleton-Jacobs Well Rd\, Woongoolba QLD 4207\, QLD\, 4207
RRULE:FREQ=WEEKLY;INTERVAL=1;BYDAY=MO,TU
END:VEVENT
END:VCALENDAR
