BEGIN:VCALENDAR
VERSION:2.0
PRODID:-//My Community Diary//iCal Event//EN
CALSCALE:GREGORIAN
METHOD:PUBLISH
BEGIN:VEVENT
UID:2d758d36-eba8-4e37-97eb-adbec054988b
DTSTAMP:20260424T160520Z
DTSTART;TZID=E. Australia Standard Time:20180727T193000
DTEND;TZID=E. Australia Standard Time:20180727T213000
SUMMARY:NOT THE MESSIAH- he's a very naughty boy.
DESCRIPTION:It’s not a musical\, it’s a very naughty oratorio with full orchestra\, a choir\, five soloists\, bagpipes and sheep. \n\nInspired by the immensely popular 1979 Python pic “Life of Brian\,” “Not the Messiah (He’s a Very Naughty Boy)” uses scenes from the irreverent comedy about a biblical also-ran to spoof Handel.Eric Idle and his co-composer on “Monty Python’s Spamalot\,” John Du Prez created this inspired by the success of ‘SPAMALOT’.\n\nBrian\, his mother and lover are the most recognizable and consistent characters in a work that cherry-picks from the film for moments infused with musical merriment. The plot essentially consists of a guy discovering he’s been mistaken for the messiah. This results in &nbsp\;lots of boisterous fun and puns . Du Prez’s thoroughly entertaining score starts big and skips joyously from gospel to doo-wop\, pop\, country and Broadway musical with a detour to impersonate Bob Dylan on guitar and harmonica.\n
LOCATION:Spotlight Theatrical Company and Costume Hire\, 185-187 Ashmore Rd\, Benowa QLD 4217\, QLD\, 4217
RRULE:FREQ=DAILY;INTERVAL=1
END:VEVENT
END:VCALENDAR
