BEGIN:VCALENDAR
VERSION:2.0
PRODID:-//My Community Diary//iCal Event//EN
CALSCALE:GREGORIAN
METHOD:PUBLISH
BEGIN:VEVENT
UID:f16fe6aa-30e9-4a6f-aa37-68e6a2f8a531
DTSTAMP:20260424T160519Z
DTSTART;TZID=E. Australia Standard Time:20180602T081500
DTEND;TZID=E. Australia Standard Time:20180602T093000
SUMMARY:Broadbeach - Falun Gong (Chi Gong) Exercise & Meditation
DESCRIPTION:Falun Gong\, also known as Falun Dafa\, consists of four gentle exercises and a sitting meditation that help improve mental and physical well-being. Free of charge. Suitable for all ages and fitness levels.\nNo bookings necessary. Facebook message if you have any questions.\nwww.falunau.org\n
LOCATION:Falun Dafa Association of Australia Queensland Branch\, Broadbeach QLD 4218\, QLD\, 4218
RRULE:FREQ=WEEKLY;INTERVAL=1;BYDAY=SA
END:VEVENT
END:VCALENDAR
